Package: miQC Version: 1.15.0 Command: chmod a+r miQC -R && E:\biocbuild\bbs-3.21-bioc\R\bin\R.exe CMD build --keep-empty-dirs --no-resave-data miQC StartedAt: 2025-02-09 19:55:46 -0500 (Sun, 09 Feb 2025) EndedAt: 2025-02-09 19:57:23 -0500 (Sun, 09 Feb 2025) EllapsedTime: 97.1 seconds RetCode: 0 Status: OK PackageFile: miQC_1.15.0.tar.gz PackageFileSize: 971.8 KiB