Package: miQC Version: 1.15.0 Command: E:\biocbuild\bbs-3.21-bioc\R\bin\R.exe CMD check --no-multiarch --install=check:miQC.install-out.txt --library=E:\biocbuild\bbs-3.21-bioc\R\library --no-vignettes --timings miQC_1.15.0.tar.gz StartedAt: 2025-02-10 02:58:26 -0500 (Mon, 10 Feb 2025) EndedAt: 2025-02-10 03:02:20 -0500 (Mon, 10 Feb 2025) EllapsedTime: 234.0 seconds RetCode: 0 Status: OK CheckDir: miQC.Rcheck Warnings: 0