Package: miQC Version: 1.15.0 Command: E:\biocbuild\bbs-3.21-bioc\R\bin\R.exe CMD INSTALL miQC StartedAt: 2025-02-09 16:20:31 -0500 (Sun, 09 Feb 2025) EndedAt: 2025-02-09 16:21:01 -0500 (Sun, 09 Feb 2025) EllapsedTime: 29.8 seconds RetCode: 0 Status: OK