Package: miRLAB Version: 1.37.0 Command: rm -rf miRLAB.buildbin-libdir && mkdir miRLAB.buildbin-libdir && /Users/biocbuild/BBS/utils/build-universal.sh miRLAB_1.37.0.tar.gz /Library/Frameworks/R.framework/Resources/bin/R miRLAB.buildbin-libdir StartedAt: 2025-02-09 22:21:25 -0500 (Sun, 09 Feb 2025) EndedAt: 2025-02-09 22:21:40 -0500 (Sun, 09 Feb 2025) EllapsedTime: 15.3 seconds RetCode: 0 Status: OK PackageFile: miRLAB_1.37.0.tgz PackageFileSize: 304.5 KiB