Package: miRLAB Version: 1.37.0 Command: /Library/Frameworks/R.framework/Resources/bin/R CMD check --install=check:miRLAB.install-out.txt --library=/Library/Frameworks/R.framework/Resources/library --no-vignettes --timings miRLAB_1.37.0.tar.gz StartedAt: 2025-02-09 20:08:42 -0500 (Sun, 09 Feb 2025) EndedAt: 2025-02-09 20:10:15 -0500 (Sun, 09 Feb 2025) EllapsedTime: 93.1 seconds RetCode: 0 Status: WARNINGS CheckDir: miRLAB.Rcheck Warnings: 1