Package: miRLAB Version: 1.37.0 Command: /Library/Frameworks/R.framework/Resources/bin/R CMD INSTALL miRLAB StartedAt: 2025-02-09 15:20:30 -0500 (Sun, 09 Feb 2025) EndedAt: 2025-02-09 15:20:43 -0500 (Sun, 09 Feb 2025) EllapsedTime: 13.3 seconds RetCode: 0 Status: OK