Package: miRLAB Version: 1.37.0 Command: /home/biocbuild/R/R/bin/R CMD build --keep-empty-dirs --no-resave-data miRLAB StartedAt: 2025-01-29 00:23:34 -0000 (Wed, 29 Jan 2025) EndedAt: 2025-01-29 00:24:23 -0000 (Wed, 29 Jan 2025) EllapsedTime: 49.0 seconds RetCode: 0 Status: OK PackageFile: miRLAB_1.37.0.tar.gz PackageFileSize: 192.8 KiB