Package: miRLAB Version: 1.37.0 Command: /home/biocbuild/R/R/bin/R CMD INSTALL miRLAB StartedAt: 2025-01-29 20:18:18 -0000 (Wed, 29 Jan 2025) EndedAt: 2025-01-29 20:19:06 -0000 (Wed, 29 Jan 2025) EllapsedTime: 48.2 seconds RetCode: 0 Status: OK