Package: miRLAB Version: 1.37.0 Command: /Library/Frameworks/R.framework/Resources/bin/R CMD build --keep-empty-dirs --no-resave-data miRLAB StartedAt: 2025-02-04 17:23:07 -0500 (Tue, 04 Feb 2025) EndedAt: 2025-02-04 17:23:51 -0500 (Tue, 04 Feb 2025) EllapsedTime: 43.4 seconds RetCode: 0 Status: OK PackageFile: miRLAB_1.37.0.tar.gz PackageFileSize: 192.2 KiB