Package: miRLAB Version: 1.37.0 Command: /Library/Frameworks/R.framework/Resources/bin/R CMD check --install=check:miRLAB.install-out.txt --library=/Library/Frameworks/R.framework/Resources/library --no-vignettes --timings miRLAB_1.37.0.tar.gz StartedAt: 2025-02-04 21:41:58 -0500 (Tue, 04 Feb 2025) EndedAt: 2025-02-04 21:46:17 -0500 (Tue, 04 Feb 2025) EllapsedTime: 259.2 seconds RetCode: 0 Status: WARNINGS CheckDir: miRLAB.Rcheck Warnings: 1