Package: miRLAB Version: 1.37.0 Command: /home/biocbuild/bbs-3.21-bioc/R/bin/R CMD build --keep-empty-dirs --no-resave-data miRLAB StartedAt: 2025-02-12 18:05:34 -0500 (Wed, 12 Feb 2025) EndedAt: 2025-02-12 18:06:14 -0500 (Wed, 12 Feb 2025) EllapsedTime: 40.1 seconds RetCode: 0 Status: OK PackageFile: miRLAB_1.37.0.tar.gz PackageFileSize: 192.2 KiB