Package: miRLAB Version: 1.37.0 Command: /home/biocbuild/bbs-3.21-bioc/R/bin/R CMD check --install=check:miRLAB.install-out.txt --library=/home/biocbuild/bbs-3.21-bioc/R/site-library --timings miRLAB_1.37.0.tar.gz StartedAt: 2025-02-10 00:12:29 -0500 (Mon, 10 Feb 2025) EndedAt: 2025-02-10 00:16:35 -0500 (Mon, 10 Feb 2025) EllapsedTime: 246.3 seconds RetCode: 0 Status: WARNINGS CheckDir: miRLAB.Rcheck Warnings: 1