Package: miRLAB Version: 1.37.0 Command: chmod a+r miRLAB -R && E:\biocbuild\bbs-3.21-bioc\R\bin\R.exe CMD build --keep-empty-dirs --no-resave-data miRLAB StartedAt: 2025-02-09 19:56:39 -0500 (Sun, 09 Feb 2025) EndedAt: 2025-02-09 19:57:31 -0500 (Sun, 09 Feb 2025) EllapsedTime: 52.1 seconds RetCode: 0 Status: OK PackageFile: miRLAB_1.37.0.tar.gz PackageFileSize: 192.3 KiB