Package: miRLAB Version: 1.37.0 Command: E:\biocbuild\bbs-3.21-bioc\R\bin\R.exe CMD INSTALL miRLAB StartedAt: 2025-02-04 16:30:24 -0500 (Tue, 04 Feb 2025) EndedAt: 2025-02-04 16:31:14 -0500 (Tue, 04 Feb 2025) EllapsedTime: 49.7 seconds RetCode: 0 Status: OK