Package: miRNAmeConverter Version: 1.35.0 Command: /Library/Frameworks/R.framework/Resources/bin/R CMD build --keep-empty-dirs --no-resave-data miRNAmeConverter StartedAt: 2025-02-12 16:57:43 -0500 (Wed, 12 Feb 2025) EndedAt: 2025-02-12 16:57:44 -0500 (Wed, 12 Feb 2025) EllapsedTime: 1.0 seconds RetCode: 0 Status: OK PackageFile: miRNAmeConverter_1.35.0.tar.gz PackageFileSize: 313.7 KiB