Package: miRNAmeConverter Version: 1.35.0 Command: /home/biocbuild/R/R/bin/R CMD check --install=check:miRNAmeConverter.install-out.txt --library=/home/biocbuild/R/R/site-library --no-vignettes --timings miRNAmeConverter_1.35.0.tar.gz StartedAt: 2025-01-28 12:32:11 -0000 (Tue, 28 Jan 2025) EndedAt: 2025-01-28 12:34:15 -0000 (Tue, 28 Jan 2025) EllapsedTime: 124.1 seconds RetCode: 0 Status: WARNINGS CheckDir: miRNAmeConverter.Rcheck Warnings: 1