Package: miRNAmeConverter Version: 1.35.0 Command: /Library/Frameworks/R.framework/Resources/bin/R CMD INSTALL miRNAmeConverter StartedAt: 2025-02-09 15:17:02 -0500 (Sun, 09 Feb 2025) EndedAt: 2025-02-09 15:17:21 -0500 (Sun, 09 Feb 2025) EllapsedTime: 19.4 seconds RetCode: 0 Status: OK