Package: miRNAmeConverter Version: 1.35.0 Command: /home/biocbuild/bbs-3.21-bioc/R/bin/R CMD build --keep-empty-dirs --no-resave-data miRNAmeConverter StartedAt: 2025-02-09 18:09:29 -0500 (Sun, 09 Feb 2025) EndedAt: 2025-02-09 18:09:30 -0500 (Sun, 09 Feb 2025) EllapsedTime: 1.0 seconds RetCode: 0 Status: OK PackageFile: miRNAmeConverter_1.35.0.tar.gz PackageFileSize: 313.7 KiB