Package: miRNAmeConverter Version: 1.35.0 Command: /home/biocbuild/bbs-3.21-bioc/R/bin/R CMD check --install=check:miRNAmeConverter.install-out.txt --library=/home/biocbuild/bbs-3.21-bioc/R/site-library --timings miRNAmeConverter_1.35.0.tar.gz StartedAt: 2025-02-10 00:12:45 -0500 (Mon, 10 Feb 2025) EndedAt: 2025-02-10 00:14:27 -0500 (Mon, 10 Feb 2025) EllapsedTime: 102.1 seconds RetCode: 0 Status: WARNINGS CheckDir: miRNAmeConverter.Rcheck Warnings: 1