Package: miRNAmeConverter Version: 1.35.0 Command: rm -rf miRNAmeConverter.buildbin-libdir && mkdir miRNAmeConverter.buildbin-libdir && E:\biocbuild\bbs-3.21-bioc\R\bin\R.exe CMD INSTALL --build --library=miRNAmeConverter.buildbin-libdir miRNAmeConverter_1.35.0.tar.gz StartedAt: 2025-02-10 08:09:44 -0500 (Mon, 10 Feb 2025) EndedAt: 2025-02-10 08:11:04 -0500 (Mon, 10 Feb 2025) EllapsedTime: 80.2 seconds RetCode: 0 Status: OK PackageFile: miRNAmeConverter_1.35.0.zip PackageFileSize: 587.7 KiB