Package: miRNAmeConverter Version: 1.35.0 Command: chmod a+r miRNAmeConverter -R && E:\biocbuild\bbs-3.21-bioc\R\bin\R.exe CMD build --keep-empty-dirs --no-resave-data miRNAmeConverter StartedAt: 2025-02-12 20:01:58 -0500 (Wed, 12 Feb 2025) EndedAt: 2025-02-12 20:02:01 -0500 (Wed, 12 Feb 2025) EllapsedTime: 3.0 seconds RetCode: 0 Status: OK PackageFile: miRNAmeConverter_1.35.0.tar.gz PackageFileSize: 313.7 KiB