Package: miRNAtap Version: 1.41.0 Maintainer: T. Ian Simpson MaintainerEmail: ian.simpson at ed.ac.uk git_url: https://git.bioconductor.org/packages/miRNAtap git_branch: devel git_last_commit: 18c2dc7 git_last_commit_date: 2024-10-29 09:53:45 -0500 (Tue, 29 Oct 2024)