Package: miRNAtap Version: 1.41.0 Command: /home/biocbuild/R/R/bin/R CMD INSTALL miRNAtap StartedAt: 2025-01-29 19:52:49 -0000 (Wed, 29 Jan 2025) EndedAt: 2025-01-29 19:53:07 -0000 (Wed, 29 Jan 2025) EllapsedTime: 18.2 seconds RetCode: 0 Status: OK