Package: miRNAtap Version: 1.41.0 Command: /home/biocbuild/bbs-3.21-bioc/R/bin/R CMD INSTALL miRNAtap StartedAt: 2025-02-09 15:24:52 -0500 (Sun, 09 Feb 2025) EndedAt: 2025-02-09 15:25:06 -0500 (Sun, 09 Feb 2025) EllapsedTime: 13.5 seconds RetCode: 0 Status: OK