Package: miRNAtap Version: 1.41.0 Command: chmod a+r miRNAtap -R && E:\biocbuild\bbs-3.21-bioc\R\bin\R.exe CMD build --keep-empty-dirs --no-resave-data miRNAtap StartedAt: 2025-02-09 19:57:19 -0500 (Sun, 09 Feb 2025) EndedAt: 2025-02-09 19:58:13 -0500 (Sun, 09 Feb 2025) EllapsedTime: 54.5 seconds RetCode: 0 Status: OK PackageFile: miRNAtap_1.41.0.tar.gz PackageFileSize: 102.1 KiB