Package: miRNAtap Version: 1.41.0 Command: E:\biocbuild\bbs-3.21-bioc\R\bin\R.exe CMD INSTALL miRNAtap StartedAt: 2025-02-09 15:49:08 -0500 (Sun, 09 Feb 2025) EndedAt: 2025-02-09 15:49:38 -0500 (Sun, 09 Feb 2025) EllapsedTime: 30.2 seconds RetCode: 0 Status: OK