Package: miRSM Version: 2.3.0 Command: rm -rf miRSM.buildbin-libdir && mkdir miRSM.buildbin-libdir && /Users/biocbuild/BBS/utils/build-universal.sh miRSM_2.3.0.tar.gz /Library/Frameworks/R.framework/Resources/bin/R miRSM.buildbin-libdir StartedAt: 2025-02-04 22:23:16 -0500 (Tue, 04 Feb 2025) EndedAt: 2025-02-04 22:23:39 -0500 (Tue, 04 Feb 2025) EllapsedTime: 23.5 seconds RetCode: 0 Status: OK PackageFile: miRSM_2.3.0.tgz PackageFileSize: 1.032 MiB