############################################################################## ############################################################################## ### ### Running command: ### ### /home/biocbuild/R/R/bin/R CMD INSTALL miRSM ### ############################################################################## ############################################################################## * installing to library ‘/home/biocbuild/R/R-4.5.0-devel_2024-11-24/site-library’ * installing *source* package ‘miRSM’ ... ** using staged installation ** libs using C compiler: ‘aarch64-unknown-linux-gnu-gcc (GCC) 14.2.0’ /opt/ohpc/pub/compiler/gcc/14.2.0/bin/aarch64-unknown-linux-gnu-gcc -I"/home/biocbuild/R/R/include" -DNDEBUG -I/usr/local/include -fPIC -g -O2 -Wall -Werror=format-security -c complex.c -o complex.o /opt/ohpc/pub/compiler/gcc/14.2.0/bin/aarch64-unknown-linux-gnu-gcc -I"/home/biocbuild/R/R/include" -DNDEBUG -I/usr/local/include -fPIC -g -O2 -Wall -Werror=format-security -c registerDynamicSymbol.c -o registerDynamicSymbol.o /opt/ohpc/pub/compiler/gcc/14.2.0/bin/aarch64-unknown-linux-gnu-gcc -shared -L/home/biocbuild/R/R/lib -L/usr/local/lib -o miRSM.so complex.o registerDynamicSymbol.o -L/home/biocbuild/R/R/lib -lR installing to /home/biocbuild/R/R-4.5.0-devel_2024-11-24/site-library/00LOCK-miRSM/00new/miRSM/libs ** R ** data ** inst ** byte-compile and prepare package for lazy loading Error in dyn.load(file, DLLpath = DLLpath, ...) : unable to load shared object '/home/biocbuild/R/R-4.5.0-devel_2024-11-24/site-library/V8/libs/V8.so': libnode.so.72: cannot open shared object file: No such file or directory Calls: ... namespaceImport -> loadNamespace -> library.dynam -> dyn.load Execution halted ERROR: lazy loading failed for package ‘miRSM’ * removing ‘/home/biocbuild/R/R-4.5.0-devel_2024-11-24/site-library/miRSM’