Package: miRSM Version: 2.3.0 Command: rm -rf miRSM.buildbin-libdir && mkdir miRSM.buildbin-libdir && /Users/biocbuild/BBS/utils/build-universal.sh miRSM_2.3.0.tar.gz /Library/Frameworks/R.framework/Resources/bin/R miRSM.buildbin-libdir StartedAt: 2025-02-10 01:03:10 -0500 (Mon, 10 Feb 2025) EndedAt: 2025-02-10 01:04:27 -0500 (Mon, 10 Feb 2025) EllapsedTime: 77.2 seconds RetCode: 0 Status: OK PackageFile: miRSM_2.3.0.tgz PackageFileSize: 1.031 MiB