Package: miRSM Version: 2.3.0 Command: /Library/Frameworks/R.framework/Resources/bin/R CMD build --keep-empty-dirs --no-resave-data miRSM StartedAt: 2025-02-03 17:27:41 -0500 (Mon, 03 Feb 2025) EndedAt: 2025-02-03 17:29:31 -0500 (Mon, 03 Feb 2025) EllapsedTime: 109.6 seconds RetCode: 0 Status: OK PackageFile: miRSM_2.3.0.tar.gz PackageFileSize: 911.8 KiB