Package: miRSM Version: 2.3.0 Command: /Library/Frameworks/R.framework/Resources/bin/R CMD INSTALL miRSM StartedAt: 2025-02-03 15:43:11 -0500 (Mon, 03 Feb 2025) EndedAt: 2025-02-03 15:44:23 -0500 (Mon, 03 Feb 2025) EllapsedTime: 71.2 seconds RetCode: 0 Status: OK