Package: miRSM Version: 2.3.0 Command: /home/biocbuild/bbs-3.21-bioc/R/bin/R CMD INSTALL miRSM StartedAt: 2025-02-09 15:47:40 -0500 (Sun, 09 Feb 2025) EndedAt: 2025-02-09 15:48:33 -0500 (Sun, 09 Feb 2025) EllapsedTime: 53.3 seconds RetCode: 0 Status: OK