Package: miRSM Version: 2.3.0 Command: rm -rf miRSM.buildbin-libdir && mkdir miRSM.buildbin-libdir && E:\biocbuild\bbs-3.21-bioc\R\bin\R.exe CMD INSTALL --build --library=miRSM.buildbin-libdir miRSM_2.3.0.tar.gz StartedAt: 2025-02-06 08:29:06 -0500 (Thu, 06 Feb 2025) EndedAt: 2025-02-06 08:30:16 -0500 (Thu, 06 Feb 2025) EllapsedTime: 69.8 seconds RetCode: 0 Status: OK PackageFile: miRSM_2.3.0.zip PackageFileSize: 1.037 MiB