Package: miRSM Version: 2.3.0 Command: E:\biocbuild\bbs-3.21-bioc\R\bin\R.exe CMD INSTALL miRSM StartedAt: 2025-02-09 16:48:33 -0500 (Sun, 09 Feb 2025) EndedAt: 2025-02-09 16:49:45 -0500 (Sun, 09 Feb 2025) EllapsedTime: 71.7 seconds RetCode: 0 Status: OK