Package: miRcomp Version: 1.37.0 Command: rm -rf miRcomp.buildbin-libdir && mkdir miRcomp.buildbin-libdir && /Users/biocbuild/BBS/utils/build-universal.sh miRcomp_1.37.0.tar.gz /Library/Frameworks/R.framework/Resources/bin/R miRcomp.buildbin-libdir StartedAt: 2025-02-09 22:21:19 -0500 (Sun, 09 Feb 2025) EndedAt: 2025-02-09 22:21:22 -0500 (Sun, 09 Feb 2025) EllapsedTime: 3.0 seconds RetCode: 0 Status: OK PackageFile: miRcomp_1.37.0.tgz PackageFileSize: 3.351 MiB