Package: miRcomp Version: 1.37.0 Command: /home/biocbuild/R/R/bin/R CMD build --keep-empty-dirs --no-resave-data miRcomp StartedAt: 2025-01-29 00:22:36 -0000 (Wed, 29 Jan 2025) EndedAt: 2025-01-29 00:23:40 -0000 (Wed, 29 Jan 2025) EllapsedTime: 64.0 seconds RetCode: 0 Status: OK PackageFile: miRcomp_1.37.0.tar.gz PackageFileSize: 3.044 MiB