Package: miRcomp Version: 1.37.0 Command: /home/biocbuild/R/R/bin/R CMD INSTALL miRcomp StartedAt: 2025-01-29 20:15:07 -0000 (Wed, 29 Jan 2025) EndedAt: 2025-01-29 20:15:13 -0000 (Wed, 29 Jan 2025) EllapsedTime: 5.5 seconds RetCode: 0 Status: OK