Package: miRcomp Version: 1.37.0 Command: /Library/Frameworks/R.framework/Resources/bin/R CMD check --install=check:miRcomp.install-out.txt --library=/Library/Frameworks/R.framework/Resources/library --no-vignettes --timings miRcomp_1.37.0.tar.gz StartedAt: 2025-02-03 21:43:54 -0500 (Mon, 03 Feb 2025) EndedAt: 2025-02-03 21:44:44 -0500 (Mon, 03 Feb 2025) EllapsedTime: 50.5 seconds RetCode: 0 Status: WARNINGS CheckDir: miRcomp.Rcheck Warnings: 1