Package: miRcomp Version: 1.37.0 Command: /Library/Frameworks/R.framework/Resources/bin/R CMD INSTALL miRcomp StartedAt: 2025-02-09 15:31:22 -0500 (Sun, 09 Feb 2025) EndedAt: 2025-02-09 15:31:28 -0500 (Sun, 09 Feb 2025) EllapsedTime: 6.1 seconds RetCode: 0 Status: OK