Package: miRcomp Version: 1.37.0 Command: /home/biocbuild/bbs-3.21-bioc/R/bin/R CMD build --keep-empty-dirs --no-resave-data miRcomp StartedAt: 2025-02-03 18:17:47 -0500 (Mon, 03 Feb 2025) EndedAt: 2025-02-03 18:18:23 -0500 (Mon, 03 Feb 2025) EllapsedTime: 36.0 seconds RetCode: 0 Status: OK PackageFile: miRcomp_1.37.0.tar.gz PackageFileSize: 4.344 MiB