Package: miRcomp Version: 1.37.0 Command: /home/biocbuild/bbs-3.21-bioc/R/bin/R CMD check --install=check:miRcomp.install-out.txt --library=/home/biocbuild/bbs-3.21-bioc/R/site-library --timings miRcomp_1.37.0.tar.gz StartedAt: 2025-02-10 00:12:01 -0500 (Mon, 10 Feb 2025) EndedAt: 2025-02-10 00:13:03 -0500 (Mon, 10 Feb 2025) EllapsedTime: 62.1 seconds RetCode: 0 Status: WARNINGS CheckDir: miRcomp.Rcheck Warnings: 1