Package: miRcomp Version: 1.37.0 Command: /home/biocbuild/bbs-3.21-bioc/R/bin/R CMD INSTALL miRcomp StartedAt: 2025-02-03 15:21:26 -0500 (Mon, 03 Feb 2025) EndedAt: 2025-02-03 15:21:30 -0500 (Mon, 03 Feb 2025) EllapsedTime: 4.6 seconds RetCode: 0 Status: OK