Package: miRcomp Version: 1.37.0 Command: chmod a+r miRcomp -R && E:\biocbuild\bbs-3.21-bioc\R\bin\R.exe CMD build --keep-empty-dirs --no-resave-data miRcomp StartedAt: 2025-02-03 20:08:48 -0500 (Mon, 03 Feb 2025) EndedAt: 2025-02-03 20:09:38 -0500 (Mon, 03 Feb 2025) EllapsedTime: 49.8 seconds RetCode: 0 Status: OK PackageFile: miRcomp_1.37.0.tar.gz PackageFileSize: 2.575 MiB