Package: miRcomp Version: 1.37.0 Command: E:\biocbuild\bbs-3.21-bioc\R\bin\R.exe CMD check --no-multiarch --install=check:miRcomp.install-out.txt --library=E:\biocbuild\bbs-3.21-bioc\R\library --no-vignettes --timings miRcomp_1.37.0.tar.gz StartedAt: 2025-02-10 02:59:02 -0500 (Mon, 10 Feb 2025) EndedAt: 2025-02-10 02:59:54 -0500 (Mon, 10 Feb 2025) EllapsedTime: 52.2 seconds RetCode: 0 Status: WARNINGS CheckDir: miRcomp.Rcheck Warnings: 1