Package: miRspongeR Version: 2.11.0 Command: rm -rf miRspongeR.buildbin-libdir && mkdir miRspongeR.buildbin-libdir && /Users/biocbuild/BBS/utils/build-universal.sh miRspongeR_2.11.0.tar.gz /Library/Frameworks/R.framework/Resources/bin/R miRspongeR.buildbin-libdir StartedAt: 2025-02-13 00:46:06 -0500 (Thu, 13 Feb 2025) EndedAt: 2025-02-13 00:46:55 -0500 (Thu, 13 Feb 2025) EllapsedTime: 49.6 seconds RetCode: 0 Status: OK PackageFile: miRspongeR_2.11.0.tgz PackageFileSize: 795.7 KiB