Package: miRspongeR Version: 2.11.0 Command: /home/biocbuild/bbs-3.21-bioc/R/bin/R CMD INSTALL miRspongeR StartedAt: 2025-02-12 15:48:46 -0500 (Wed, 12 Feb 2025) EndedAt: 2025-02-12 15:49:20 -0500 (Wed, 12 Feb 2025) EllapsedTime: 33.9 seconds RetCode: 0 Status: OK