Package: mia Version: 1.15.20 Command: rm -rf mia.buildbin-libdir && mkdir mia.buildbin-libdir && /Users/biocbuild/BBS/utils/build-universal.sh mia_1.15.20.tar.gz /Library/Frameworks/R.framework/Resources/bin/R mia.buildbin-libdir StartedAt: 2025-02-09 22:21:02 -0500 (Sun, 09 Feb 2025) EndedAt: 2025-02-09 22:21:23 -0500 (Sun, 09 Feb 2025) EllapsedTime: 20.4 seconds RetCode: 0 Status: OK PackageFile: mia_1.15.20.tgz PackageFileSize: 3.596 MiB