Package: mia Version: 1.15.20 Command: /Library/Frameworks/R.framework/Resources/bin/R CMD check --install=check:mia.install-out.txt --library=/Library/Frameworks/R.framework/Resources/library --no-vignettes --timings mia_1.15.20.tar.gz StartedAt: 2025-02-09 20:05:29 -0500 (Sun, 09 Feb 2025) EndedAt: 2025-02-09 20:19:58 -0500 (Sun, 09 Feb 2025) EllapsedTime: 869.2 seconds RetCode: 0 Status: OK CheckDir: mia.Rcheck Warnings: 0