Package: mia Version: 1.15.6 Command: /home/biocbuild/R/R/bin/R CMD check --install=check:mia.install-out.txt --library=/home/biocbuild/R/R/site-library --no-vignettes --timings mia_1.15.6.tar.gz StartedAt: 2025-01-28 12:25:14 -0000 (Tue, 28 Jan 2025) EndedAt: 2025-01-28 13:05:14 -0000 (Tue, 28 Jan 2025) EllapsedTime: 2400.1 seconds RetCode: None Status: TIMEOUT CheckDir: mia.Rcheck Warnings: NA