Package: mia Version: 1.15.20 Command: rm -rf mia.buildbin-libdir && mkdir mia.buildbin-libdir && /Users/biocbuild/BBS/utils/build-universal.sh mia_1.15.20.tar.gz /Library/Frameworks/R.framework/Resources/bin/R mia.buildbin-libdir StartedAt: 2025-02-10 01:02:33 -0500 (Mon, 10 Feb 2025) EndedAt: 2025-02-10 01:03:41 -0500 (Mon, 10 Feb 2025) EllapsedTime: 68.2 seconds RetCode: 0 Status: OK PackageFile: mia_1.15.20.tgz PackageFileSize: 3.591 MiB